BEGIN:VCALENDAR
VERSION:2.0
PRODID:spatie/icalendar-generator
DESCRIPTION:Events from Harlandale Methodist Church
X-WR-CALDESC:Events from Harlandale Methodist Church
REFRESH-INTERVAL;VALUE=DURATION:PT1440M
X-PUBLISHED-TTL:PT1440M
BEGIN:VTIMEZONE
TZID:America/Chicago
BEGIN:STANDARD
DTSTART:20251102T020000Z
TZOFFSETFROM:-0500
TZOFFSETTO:-0600
END:STANDARD
BEGIN:DAYLIGHT
DTSTART:20260308T020000Z
TZOFFSETFROM:-0600
TZOFFSETTO:-0500
END:DAYLIGHT
BEGIN:STANDARD
DTSTART:20261101T020000Z
TZOFFSETFROM:-0500
TZOFFSETTO:-0600
END:STANDARD
END:VTIMEZONE
BEGIN:VTIMEZONE
TZID:UTC
BEGIN:STANDARD
DTSTART:20250725T153616Z
TZOFFSETFROM:+0000
TZOFFSETTO:+0000
END:STANDARD
END:VTIMEZONE
BEGIN:VEVENT
UID:2816-3
DTSTAMP:20260421T153616Z
SUMMARY:Food Distribution
LOCATION:
ORGANIZER;CN=harlandale:MAILTO:connect@harlandalemethodistchurch.com
RRULE:FREQ=MONTHLY;BYDAY=3WE;UNTIL=20351231T000000Z
DTSTART;TZID=America/Chicago:20260520T090000
DTEND;TZID=America/Chicago:20260520T120000
X-ALT-DESC;FMTTYPE=TEXT/HTML:<p>Distribution ends promptly at noon. You mus
 t bring your own box or bags or cart.</p>\n
CATEGORIES:Food Bank
URL;VALUE=URI:https://harlandalemethodistchurch.com/mc-events/food-distribu
 tion/?mc_id=2816
METHOD:PUBLISH
END:VEVENT
END:VCALENDAR