BEGIN:VCALENDAR
VERSION:2.0
PRODID:spatie/icalendar-generator
DESCRIPTION:Events from Harlandale Methodist Church
X-WR-CALDESC:Events from Harlandale Methodist Church
REFRESH-INTERVAL;VALUE=DURATION:PT1440M
X-PUBLISHED-TTL:PT1440M
BEGIN:VTIMEZONE
TZID:America/Chicago
BEGIN:STANDARD
DTSTART:20251102T020000Z
TZOFFSETFROM:-0500
TZOFFSETTO:-0600
END:STANDARD
BEGIN:DAYLIGHT
DTSTART:20260308T020000Z
TZOFFSETFROM:-0600
TZOFFSETTO:-0500
END:DAYLIGHT
END:VTIMEZONE
BEGIN:VTIMEZONE
TZID:UTC
BEGIN:STANDARD
DTSTART:20250726T000110Z
TZOFFSETFROM:+0000
TZOFFSETTO:+0000
END:STANDARD
END:VTIMEZONE
BEGIN:VEVENT
UID:28-2
DTSTAMP:20260422T000110Z
SUMMARY:Harlandale Methodist
LOCATION:
ORGANIZER;CN=harlandale:MAILTO:connect@harlandalemethodistchurch.com
RRULE:FREQ=WEEKLY;UNTIL=20351230T000000Z
DTSTART;TZID=America/Chicago:20260322T110000
DTEND;TZID=America/Chicago:20260322T123000
X-ALT-DESC;FMTTYPE=TEXT/HTML:
CATEGORIES:Worship Service
URL;VALUE=URI:https://harlandalemethodistchurch.com/mc-events/harlandale-me
 thodist/?mc_id=28
METHOD:PUBLISH
END:VEVENT
END:VCALENDAR