BEGIN:VCALENDAR
VERSION:2.0
PRODID:spatie/icalendar-generator
DESCRIPTION:Events from Harlandale Methodist Church
X-WR-CALDESC:Events from Harlandale Methodist Church
REFRESH-INTERVAL;VALUE=DURATION:PT1440M
X-PUBLISHED-TTL:PT1440M
BEGIN:VTIMEZONE
TZID:America/Chicago
BEGIN:STANDARD
DTSTART:20251102T020000Z
TZOFFSETFROM:-0500
TZOFFSETTO:-0600
END:STANDARD
BEGIN:DAYLIGHT
DTSTART:20260308T020000Z
TZOFFSETFROM:-0600
TZOFFSETTO:-0500
END:DAYLIGHT
END:VTIMEZONE
BEGIN:VTIMEZONE
TZID:UTC
BEGIN:STANDARD
DTSTART:20250725T221159Z
TZOFFSETFROM:+0000
TZOFFSETTO:+0000
END:STANDARD
END:VTIMEZONE
BEGIN:VEVENT
UID:2174-4
DTSTAMP:20260421T221159Z
SUMMARY:Hem of Hope
LOCATION:
ORGANIZER;CN=harlandale:MAILTO:connect@harlandalemethodistchurch.com
RRULE:FREQ=WEEKLY;UNTIL=20351230T000000Z
DTSTART;TZID=America/Chicago:20260322T130000
DTEND;TZID=America/Chicago:20260322T150000
X-ALT-DESC;FMTTYPE=TEXT/HTML:
CATEGORIES:Worship Service
URL;VALUE=URI:https://harlandalemethodistchurch.com/mc-events/hem-of-hope/?
 mc_id=2174
METHOD:PUBLISH
END:VEVENT
END:VCALENDAR