BEGIN:VCALENDAR
VERSION:2.0
PRODID:spatie/icalendar-generator
DESCRIPTION:Events from Harlandale Methodist Church
X-WR-CALDESC:Events from Harlandale Methodist Church
REFRESH-INTERVAL;VALUE=DURATION:PT1440M
X-PUBLISHED-TTL:PT1440M
BEGIN:VTIMEZONE
TZID:America/Chicago
BEGIN:STANDARD
DTSTART:20251102T020000Z
TZOFFSETFROM:-0500
TZOFFSETTO:-0600
END:STANDARD
BEGIN:DAYLIGHT
DTSTART:20260308T020000Z
TZOFFSETFROM:-0600
TZOFFSETTO:-0500
END:DAYLIGHT
END:VTIMEZONE
BEGIN:VTIMEZONE
TZID:UTC
BEGIN:STANDARD
DTSTART:20250725T133610Z
TZOFFSETFROM:+0000
TZOFFSETTO:+0000
END:STANDARD
END:VTIMEZONE
BEGIN:VEVENT
UID:1640-5
DTSTAMP:20260421T133610Z
SUMMARY:Food Distribution
LOCATION:
ORGANIZER;CN=harlandale:MAILTO:connect@harlandalemethodistchurch.com
RRULE:FREQ=WEEKLY;UNTIL=20351231T000000Z
DTSTART;TZID=America/Chicago:20260407T100000
DTEND;TZID=America/Chicago:20260407T120000
X-ALT-DESC;FMTTYPE=TEXT/HTML:<p>Distribution of over promptly at noon. You 
 must bring your own box or bags or cart.</p>\n
CATEGORIES:Food Bank
URL;VALUE=URI:https://harlandalemethodistchurch.com/mc-events/food-distribu
 tion-2/?mc_id=1640
METHOD:PUBLISH
END:VEVENT
END:VCALENDAR